BEGIN:VCALENDAR
PRODID:-//eluceo/ical//2.0/EN
VERSION:2.0
CALSCALE:GREGORIAN
BEGIN:VEVENT
UID:18f127bf11b55f2faa35ede7c8b17a4b
DTSTAMP:20260421T144202Z
SUMMARY:Governor Besuch
DESCRIPTION:Site internet: http://www.restaurant-schiff.ch\nConférencier(s
 ): 
URL:https://eclubzentralschweiz.rotary1980.ch/fr/agenda/show/135736
DTSTART;TZID=Europe/Zurich:20211206T193000
DTEND;TZID=Europe/Zurich:20211206T213000
LOCATION:Restaurant Schiff\, Graben 2\, 6300 Zug\, Schweiz
CATEGORIES:Rotary
END:VEVENT
BEGIN:VTIMEZONE
TZID:Europe/Zurich
BEGIN:STANDARD
DTSTART:20211206T193000
TZNAME:CET
TZOFFSETTO:+0100
TZOFFSETFROM:+0100
END:STANDARD
END:VTIMEZONE
END:VCALENDAR
