BEGIN:VCALENDAR
PRODID:-//eluceo/ical//2.0/EN
VERSION:2.0
CALSCALE:GREGORIAN
BEGIN:VEVENT
UID:f0e1fe1b96fe2fa098574b79783a107e
DTSTAMP:20260423T020452Z
SUMMARY:Chlaus-Plauderdinner (Partneranlass)
DESCRIPTION:Web stranica: https://www.olivo-baarerhof.ch/\nGovornik(ci): Ro
 tarierinnen/Rotarier
URL:https://eclubzentralschweiz.rotary1980.ch/bs/agenda/show/152235
DTSTART;TZID=Europe/Zurich:20221205T193000
DTEND;TZID=Europe/Zurich:20221205T213000
LOCATION:Restaurant Olivo-Bauernhof\, Baarerstrasse 65\, 6300 Zug\, Schweiz
CATEGORIES:Rotary
END:VEVENT
BEGIN:VTIMEZONE
TZID:Europe/Zurich
BEGIN:STANDARD
DTSTART:20221205T193000
TZNAME:CET
TZOFFSETTO:+0100
TZOFFSETFROM:+0100
END:STANDARD
END:VTIMEZONE
END:VCALENDAR
