BEGIN:VCALENDAR
PRODID:-//eluceo/ical//2.0/EN
VERSION:2.0
CALSCALE:GREGORIAN
BEGIN:VEVENT
UID:d5fcf879e5482faca6476c5428ded73c
DTSTAMP:20260423T020342Z
SUMMARY:Klassifikationsinterview
DESCRIPTION:Govornik(ci): Michael Crowther
URL:https://eclubzentralschweiz.rotary1980.ch/bs/agenda/show/152234
DTSTART;TZID=Europe/Zurich:20221128T193000
DTEND;TZID=Europe/Zurich:20221128T203000
LOCATION:https://zoom.us/j/92187063502?pwd=t2d0ykf5mzhsmxpqrda1ruvnk0tzzz09
CATEGORIES:Rotary
END:VEVENT
BEGIN:VTIMEZONE
TZID:Europe/Zurich
BEGIN:STANDARD
DTSTART:20221128T193000
TZNAME:CET
TZOFFSETTO:+0100
TZOFFSETFROM:+0100
END:STANDARD
END:VTIMEZONE
END:VCALENDAR
