BEGIN:VCALENDAR
PRODID:-//eluceo/ical//2.0/EN
VERSION:2.0
CALSCALE:GREGORIAN
BEGIN:VEVENT
UID:1671a588824428c12a27375cc53fdf21
DTSTAMP:20260423T021059Z
SUMMARY:Plauderdinner
DESCRIPTION:Web stranica: http://www.continental.ch\nGovornik(ci):   Rotar
 ierinnen/Rotarier  
URL:https://eclubzentralschweiz.rotary1980.ch/bs/agenda/show/152233
DTSTART;TZID=Europe/Zurich:20221121T193000
DTEND;TZID=Europe/Zurich:20221121T213000
LOCATION:Hotel Continental-Park Luzern\, Murbacherstrasse 4\, 6002 Luzern\,
  Schweiz
CATEGORIES:Rotary
END:VEVENT
BEGIN:VTIMEZONE
TZID:Europe/Zurich
BEGIN:STANDARD
DTSTART:20221121T193000
TZNAME:CET
TZOFFSETTO:+0100
TZOFFSETFROM:+0100
END:STANDARD
END:VTIMEZONE
END:VCALENDAR
